BEGIN:VCALENDAR
VERSION:2.0
PRODID:-//InStaff und Jobs GmbH
BEGIN:VEVENT
UID:fab8fd12d17648e065cfe1fa8cf54917@instaff.jobs
DTSTAMP:20260423T192014Z
LOCATION:Messe Karlsruhe\, Messeallee 1\, 76287 Rheinstetten
DTSTART;TZID=Europe/Brussels:20240514T070000Z
DTEND;TZID=Europe/Brussels:20240516T160000Z
SUMMARY:IT-TRANS 2024
DESCRIPTION:https://www.google.com/maps/search/?api=1&query=Messe+Karlsruhe%2C+Messeallee+1%2C+76287+Rheinstetten
END:VEVENT
END:VCALENDAR