BEGIN:VCALENDAR
VERSION:2.0
PRODID:-//InStaff und Jobs GmbH
BEGIN:VEVENT
UID:08b2d1bb0db943bf9a72cf95fcaf7a93@instaff.jobs
DTSTAMP:20260423T172828Z
LOCATION:Kongresszentrum Karlsruhe Gartenhalle\, Festpl\. 3\, 76137 Karlsruhe
DTSTART;TZID=Europe/Brussels:20240117T070000Z
DTEND;TZID=Europe/Brussels:20240118T160000Z
SUMMARY:Bonding Karlsruhe 2024
DESCRIPTION:https://www.google.com/maps/search/?api=1&query=Kongresszentrum+Karlsruhe+Gartenhalle%2C+Festpl.+3%2C+76137+Karlsruhe
END:VEVENT
BEGIN:VEVENT
UID:f51efd8be24331856e50bd6c9e0c00b1@instaff.jobs
DTSTAMP:20260423T172828Z
LOCATION:Schwarzwaldhalle\, Festplatz 5\, 76137 Karlsruhe
DTSTART;TZID=Europe/Brussels:20240418T070000Z
DTEND;TZID=Europe/Brussels:20240418T160000Z
SUMMARY:Karrieretag Karlsruhe 2024
DESCRIPTION:https://www.google.com/maps/search/?api=1&query=Schwarzwaldhalle%2C+Festplatz+5%2C+76137+Karlsruhe
END:VEVENT
BEGIN:VEVENT
UID:c1773745bfbe6b8365f33c29ff1bda6f@instaff.jobs
DTSTAMP:20260423T172828Z
LOCATION:Messe Karlsruhe\, Messeallee 1\, 76287 Rheinstetten
DTSTART;TZID=Europe/Brussels:20240514T070000Z
DTEND;TZID=Europe/Brussels:20240516T160000Z
SUMMARY:IT-TRANS 2024
DESCRIPTION:https://www.google.com/maps/search/?api=1&query=Messe+Karlsruhe%2C+Messeallee+1%2C+76287+Rheinstetten
END:VEVENT
BEGIN:VEVENT
UID:fd5b1409b812d7ae68423177973c73bf@instaff.jobs
DTSTAMP:20260423T172828Z
LOCATION:GenoHotel Karlsruhe\, Am Rüppurrer Schloss 40\, 76199 Karlsruhe
DTSTART;TZID=Europe/Brussels:20240527T070000Z
DTEND;TZID=Europe/Brussels:20240527T160000Z
SUMMARY:CAREER Venture business & consulting summer Karlsruhe 2024
DESCRIPTION:https://www.google.com/maps/search/?api=1&query=GenoHotel+Karlsruhe%2C+Am+Rüppurrer+Schloss+40%2C+76199+Karlsruhe
END:VEVENT
BEGIN:VEVENT
UID:f3481e9dbb57abf358140d3464ab8429@instaff.jobs
DTSTAMP:20260423T172828Z
LOCATION:Messe Karlsruhe\, Messeallee 1\, 76287 Rheinstetten
DTSTART;TZID=Europe/Brussels:20240604T070000Z
DTEND;TZID=Europe/Brussels:20240606T160000Z
SUMMARY:LEARNTEC 2024
DESCRIPTION:https://www.google.com/maps/search/?api=1&query=Messe+Karlsruhe%2C+Messeallee+1%2C+76287+Rheinstetten
END:VEVENT
BEGIN:VEVENT
UID:c528703fbe62aac87734c007c927db86@instaff.jobs
DTSTAMP:20260423T172828Z
LOCATION:Messe Karlsruhe\, Messeallee 1\, 76287 Rheinstetten
DTSTART;TZID=Europe/Brussels:20240906T070000Z
DTEND;TZID=Europe/Brussels:20240907T160000Z
SUMMARY:Platformers Days 2024
DESCRIPTION:https://www.google.com/maps/search/?api=1&query=Messe+Karlsruhe%2C+Messeallee+1%2C+76287+Rheinstetten
END:VEVENT
BEGIN:VEVENT
UID:499fe5a73a3a0014884d1ba153dffd5c@instaff.jobs
DTSTAMP:20260423T172828Z
LOCATION:IHK Karlsruhe\, Lammstraße 13-17\, 76133 Karlsruhe
DTSTART;TZID=Europe/Brussels:20240918T070000Z
DTEND;TZID=Europe/Brussels:20240918T160000Z
SUMMARY:heise Jobs IT Tag Karlsruhe 2024
DESCRIPTION:https://www.google.com/maps/search/?api=1&query=IHK+Karlsruhe%2C+Lammstraße+13-17%2C+76133+Karlsruhe
END:VEVENT
BEGIN:VEVENT
UID:30299fd48fbd8e208ddf269cb4e011de@instaff.jobs
DTSTAMP:20260423T172828Z
LOCATION:Messe Karlsruhe\, Messeallee 1\, 76287 Rheinstetten
DTSTART;TZID=Europe/Brussels:20240928T070000Z
DTEND;TZID=Europe/Brussels:20240929T160000Z
SUMMARY:TIERisch gut 2024
DESCRIPTION:https://www.google.com/maps/search/?api=1&query=Messe+Karlsruhe%2C+Messeallee+1%2C+76287+Rheinstetten
END:VEVENT
BEGIN:VEVENT
UID:a43f6680b45a81258f042e989928ed9d@instaff.jobs
DTSTAMP:20260423T172828Z
LOCATION:Schwarzwaldhalle Karlsruhe\, Festpl\. 5\, 76137 Karlsruhe
DTSTART;TZID=Europe/Brussels:20241012T070000Z
DTEND;TZID=Europe/Brussels:20241012T160000Z
SUMMARY:einstieg Karlsruhe 2024
DESCRIPTION:https://www.google.com/maps/search/?api=1&query=Schwarzwaldhalle+Karlsruhe%2C+Festpl.+5%2C+76137+Karlsruhe
END:VEVENT
BEGIN:VEVENT
UID:4a53cdfb87384f01817b95592d87023e@instaff.jobs
DTSTAMP:20260423T172828Z
LOCATION:Gartenhalle Kalrsruhe\, Festpl\. 3\, 76137 Karlsruhe
DTSTART;TZID=Europe/Brussels:20241012T070000Z
DTEND;TZID=Europe/Brussels:20241013T160000Z
SUMMARY:VeggieWorld Market Karlsruhe 2024
DESCRIPTION:https://www.google.com/maps/search/?api=1&query=Gartenhalle+Kalrsruhe%2C+Festpl.+3%2C+76137+Karlsruhe
END:VEVENT
BEGIN:VEVENT
UID:8635df56a943505ba6aadd283a9fe602@instaff.jobs
DTSTAMP:20260423T172828Z
LOCATION:Schwarzwaldhalle\, Festplatz 5\, 76137 Karlsruhe
DTSTART;TZID=Europe/Brussels:20241017T070000Z
DTEND;TZID=Europe/Brussels:20241017T160000Z
SUMMARY:Karrieretag Karlsruhe (2) 2024
DESCRIPTION:https://www.google.com/maps/search/?api=1&query=Schwarzwaldhalle%2C+Festplatz+5%2C+76137+Karlsruhe
END:VEVENT
BEGIN:VEVENT
UID:93768b9592325cd14a7d5def3c46b598@instaff.jobs
DTSTAMP:20260423T172828Z
LOCATION:Gartenhalle Kongresszentrum Karlsruhe\, Festplatz 3\, 76137 Karlsruhe
DTSTART;TZID=Europe/Brussels:20241019T070000Z
DTEND;TZID=Europe/Brussels:20241020T160000Z
SUMMARY:Apothekentour Karlsruhe 2024
DESCRIPTION:https://www.google.com/maps/search/?api=1&query=Gartenhalle+Kongresszentrum+Karlsruhe%2C+Festplatz+3%2C+76137+Karlsruhe
END:VEVENT
BEGIN:VEVENT
UID:b645b5e6515023b7865897f2d1c5d706@instaff.jobs
DTSTAMP:20260423T172828Z
LOCATION:Messe Karlsruhe\, Messeallee 1\, 76287 Rheinstetten
DTSTART;TZID=Europe/Brussels:20241026T070000Z
DTEND;TZID=Europe/Brussels:20241103T160000Z
SUMMARY:offerta Karlsruhe 2024
DESCRIPTION:https://www.google.com/maps/search/?api=1&query=Messe+Karlsruhe%2C+Messeallee+1%2C+76287+Rheinstetten
END:VEVENT
BEGIN:VEVENT
UID:70f7ae26c647b01bf1109e56b014d2f4@instaff.jobs
DTSTAMP:20260423T172828Z
LOCATION:Messe Karlsruhe\, Messeallee 1\, 76287 Rheinstetten
DTSTART;TZID=Europe/Brussels:20241120T070000Z
DTEND;TZID=Europe/Brussels:20241121T160000Z
SUMMARY:expoDirekt 2024
DESCRIPTION:https://www.google.com/maps/search/?api=1&query=Messe+Karlsruhe%2C+Messeallee+1%2C+76287+Rheinstetten
END:VEVENT
BEGIN:VEVENT
UID:3b94fdd1e4f295359e30153b9cdaf7e0@instaff.jobs
DTSTAMP:20260423T172828Z
LOCATION:Messe Karlsruhe\, Messeallee 1\, 76287 Rheinstetten
DTSTART;TZID=Europe/Brussels:20241120T070000Z
DTEND;TZID=Europe/Brussels:20241121T160000Z
SUMMARY:expoSE 2024
DESCRIPTION:https://www.google.com/maps/search/?api=1&query=Messe+Karlsruhe%2C+Messeallee+1%2C+76287+Rheinstetten
END:VEVENT
BEGIN:VEVENT
UID:560c9d6ca39c62e7dba8646c62fb3f00@instaff.jobs
DTSTAMP:20260423T172828Z
LOCATION:23\.11\.2024 10 – 16 Uhr Europäische Schule Karlsruhe Eintritt frei Europäische Schule Karlsruhe\, Albert-Schweitzer-Str\. 1\, 76139 Karlsruhe
DTSTART;TZID=Europe/Brussels:20241123T070000Z
DTEND;TZID=Europe/Brussels:20241123T160000Z
SUMMARY:JuBi – Die JugendBildungsmesse Karlsruhe 2024
DESCRIPTION:https://www.google.com/maps/search/?api=1&query=23.11.2024+10+–+16+Uhr+Europäische+Schule+Karlsruhe+Eintritt+frei+Europäische+Schule+Karlsruhe%2C+Albert-Schweitzer-Str.+1%2C+76139+Karlsruhe
END:VEVENT
END:VCALENDAR