BEGIN:VCALENDAR
VERSION:2.0
PRODID:-//InStaff und Jobs GmbH
BEGIN:VEVENT
UID:b6ef068ce2869bead4923f09cb7d3c00@instaff.jobs
DTSTAMP:20260425T122101Z
LOCATION:Messe Leipzig\, Messe-Allee 1\, 04356 Leipzig
DTSTART;TZID=Europe/Brussels:20240901T070000Z
DTEND;TZID=Europe/Brussels:20240902T160000Z
SUMMARY:CHEFS CULINAR Leipzig 2024
DESCRIPTION:https://www.google.com/maps/search/?api=1&query=Messe+Leipzig%2C+Messe-Allee+1%2C+04356+Leipzig
END:VEVENT
END:VCALENDAR