BEGIN:VCALENDAR
VERSION:2.0
PRODID:-//InStaff und Jobs GmbH
BEGIN:VEVENT
UID:4da4c0e2784d157de2774a0315644f34@instaff.jobs
DTSTAMP:20260420T012220Z
LOCATION:Messe Nürnberg\, Messezentrum 1\, 90471 Nürnberg
DTSTART;TZID=Europe/Brussels:20241008T070000Z
DTEND;TZID=Europe/Brussels:20241010T160000Z
SUMMARY:Chillventa 2024
DESCRIPTION:https://www.google.com/maps/search/?api=1&query=Messe+Nürnberg%2C+Messezentrum+1%2C+90471+Nürnberg
END:VEVENT
END:VCALENDAR