BEGIN:VCALENDAR
VERSION:2.0
PRODID:-//InStaff und Jobs GmbH
BEGIN:VEVENT
UID:9e843f25fe965fc24c990669f8f23ed2@instaff.jobs
DTSTAMP:20260420T011901Z
LOCATION:Nürnberg Convention Center Ost\, Große Str\.\, 90471 Nürnberg
DTSTART;TZID=Europe/Brussels:20240620T070000Z
DTEND;TZID=Europe/Brussels:20240622T160000Z
SUMMARY:DOC 2024
DESCRIPTION:https://www.google.com/maps/search/?api=1&query=Nürnberg+Convention+Center+Ost%2C+Große+Str.%2C+90471+Nürnberg
END:VEVENT
END:VCALENDAR