BEGIN:VCALENDAR
VERSION:2.0
PRODID:-//InStaff und Jobs GmbH
BEGIN:VEVENT
UID:61335db8ea09a00cd33afafdb5735764@instaff.jobs
DTSTAMP:20260420T014122Z
LOCATION:Messe Nürnberg\, Messezentrum 1\, 90471 Nürnberg
DTSTART;TZID=Europe/Brussels:20240116T070000Z
DTEND;TZID=Europe/Brussels:20240118T160000Z
SUMMARY:EUROGUSS 2024
DESCRIPTION:https://www.google.com/maps/search/?api=1&query=Messe+Nürnberg%2C+Messezentrum+1%2C+90471+Nürnberg
END:VEVENT
END:VCALENDAR