BEGIN:VCALENDAR
VERSION:2.0
PRODID:-//InStaff und Jobs GmbH
BEGIN:VEVENT
UID:49bba716c522644c80b625b872327ed3@instaff.jobs
DTSTAMP:20260420T013949Z
LOCATION:Nürnberg Messe\, Messezentrum 1\, 90471 Nürnberg
DTSTART;TZID=Europe/Brussels:20240924T070000Z
DTEND;TZID=Europe/Brussels:20240926T160000Z
SUMMARY:FachPack 2024
DESCRIPTION:https://www.google.com/maps/search/?api=1&query=Nürnberg+Messe%2C+Messezentrum+1%2C+90471+Nürnberg
END:VEVENT
END:VCALENDAR