BEGIN:VCALENDAR
VERSION:2.0
PRODID:-//InStaff und Jobs GmbH
BEGIN:VEVENT
UID:7d161cdebdd7fb6590cbb2d714c8189b@instaff.jobs
DTSTAMP:20260420T014006Z
LOCATION:Messe Nürnberg\, Messezentrum 1\, 90471 Nürnberg
DTSTART;TZID=Europe/Brussels:20240319T070000Z
DTEND;TZID=Europe/Brussels:20240322T160000Z
SUMMARY:Fensterbau Frontale 2024
DESCRIPTION:https://www.google.com/maps/search/?api=1&query=Messe+Nürnberg%2C+Messezentrum+1%2C+90471+Nürnberg
END:VEVENT
END:VCALENDAR