BEGIN:VCALENDAR
VERSION:2.0
PRODID:-//InStaff und Jobs GmbH
BEGIN:VEVENT
UID:a5b0e2d119a9b1f37a463d141f3fc793@instaff.jobs
DTSTAMP:20260420T014007Z
LOCATION:Messe Nürnberg\, Messezentrum 1\, 90471 Nürnberg
DTSTART;TZID=Europe/Brussels:20240911T070000Z
DTEND;TZID=Europe/Brussels:20240914T160000Z
SUMMARY:GaLaBau 2024
DESCRIPTION:https://www.google.com/maps/search/?api=1&query=Messe+Nürnberg%2C+Messezentrum+1%2C+90471+Nürnberg
END:VEVENT
END:VCALENDAR