BEGIN:VCALENDAR
VERSION:2.0
PRODID:-//InStaff und Jobs GmbH
BEGIN:VEVENT
UID:9a549765d7505b57d75830def9d15c95@instaff.jobs
DTSTAMP:20260421T084501Z
LOCATION:Messe Nürnberg\, Messezentrum 1\, 90471 Nürnberg
DTSTART;TZID=Europe/Brussels:20241101T070000Z
DTEND;TZID=Europe/Brussels:20241103T160000Z
SUMMARY:Heimtier Messe Nürnberg 2024
DESCRIPTION:https://www.google.com/maps/search/?api=1&query=Messe+Nürnberg%2C+Messezentrum+1%2C+90471+Nürnberg
END:VEVENT
END:VCALENDAR