BEGIN:VCALENDAR
VERSION:2.0
PRODID:-//InStaff und Jobs GmbH
BEGIN:VEVENT
UID:92cb260d93d7072cac4a699cc7019011@instaff.jobs
DTSTAMP:20260420T014120Z
LOCATION:Meistersingerhalle\, Münchener Str\. 21\, 90478 Nürnberg
DTSTART;TZID=Europe/Brussels:20240323T070000Z
DTEND;TZID=Europe/Brussels:20240324T160000Z
SUMMARY:Herzblatt Hochzeitsmesse Nürnberg 2024
DESCRIPTION:https://www.google.com/maps/search/?api=1&query=Meistersingerhalle%2C+Münchener+Str.+21%2C+90478+Nürnberg
END:VEVENT
END:VCALENDAR