BEGIN:VCALENDAR
VERSION:2.0
PRODID:-//InStaff und Jobs GmbH
BEGIN:VEVENT
UID:edd9d2dfeb119af514ac9a52f8a37ea3@instaff.jobs
DTSTAMP:20260420T012326Z
LOCATION:Messe Nürnberg\, Messezentrum 1\, 90471 Nürnberg
DTSTART;TZID=Europe/Brussels:20241204T070000Z
DTEND;TZID=Europe/Brussels:20241205T160000Z
SUMMARY:HYDROGEN DIALOGUE 2024
DESCRIPTION:https://www.google.com/maps/search/?api=1&query=Messe+Nürnberg%2C+Messezentrum+1%2C+90471+Nürnberg
END:VEVENT
END:VCALENDAR