BEGIN:VCALENDAR
VERSION:2.0
PRODID:-//InStaff und Jobs GmbH
BEGIN:VEVENT
UID:85e66ffe0987f7058cde993c1092109b@instaff.jobs
DTSTAMP:20260420T012653Z
LOCATION:Messe Nürnberg\, Messezentrum 1\, 90471 Nürnberg
DTSTART;TZID=Europe/Brussels:20240507T070000Z
DTEND;TZID=Europe/Brussels:20240510T160000Z
SUMMARY:Interzoo 2024
DESCRIPTION:https://www.google.com/maps/search/?api=1&query=Messe+Nürnberg%2C+Messezentrum+1%2C+90471+Nürnberg
END:VEVENT
END:VCALENDAR