BEGIN:VCALENDAR
VERSION:2.0
PRODID:-//InStaff und Jobs GmbH
BEGIN:VEVENT
UID:da0593e3d098fe4c15ea04677e402fa8@instaff.jobs
DTSTAMP:20260420T014120Z
LOCATION:Meistersingerhalle Nürnberg\, Münchener Str\. 21\, 90478 Nürnberg
DTSTART;TZID=Europe/Brussels:20240918T070000Z
DTEND;TZID=Europe/Brussels:20240918T160000Z
SUMMARY:Jobmesse Nürnberg Herbst 2024
DESCRIPTION:https://www.google.com/maps/search/?api=1&query=Meistersingerhalle+Nürnberg%2C+Münchener+Str.+21%2C+90478+Nürnberg
END:VEVENT
END:VCALENDAR