BEGIN:VCALENDAR
VERSION:2.0
PRODID:-//InStaff und Jobs GmbH
BEGIN:VEVENT
UID:f88461065e0a6c7370ff5102055399d0@instaff.jobs
DTSTAMP:20260420T014120Z
LOCATION:Presseclub Nürnberg\, Gewerbemuseumsplatz\. 2\, 90403 Nürnberg
DTSTART;TZID=Europe/Brussels:20240302T070000Z
DTEND;TZID=Europe/Brussels:20240302T160000Z
SUMMARY:JuBi – Die JugendBildungsmesse Nürnberg 2024
DESCRIPTION:https://www.google.com/maps/search/?api=1&query=Presseclub+Nürnberg%2C+Gewerbemuseumsplatz.+2%2C+90403+Nürnberg
END:VEVENT
END:VCALENDAR