BEGIN:VCALENDAR
VERSION:2.0
PRODID:-//InStaff und Jobs GmbH
BEGIN:VEVENT
UID:5327bff63a9d1327e6f7e4429bd21a65@instaff.jobs
DTSTAMP:20260420T014121Z
LOCATION:NürnbergMesse\, Messezentrum\, D-90471 Nürnberg
DTSTART;TZID=Europe/Brussels:20240514T070000Z
DTEND;TZID=Europe/Brussels:20240515T160000Z
SUMMARY:Legal Revolution 2024
DESCRIPTION:https://www.google.com/maps/search/?api=1&query=NürnbergMesse%2C+Messezentrum%2C+D-90471+Nürnberg
END:VEVENT
END:VCALENDAR