BEGIN:VCALENDAR
VERSION:2.0
PRODID:-//InStaff und Jobs GmbH
BEGIN:VEVENT
UID:9bc1d84376690b3fb2c2bfcff064e03e@instaff.jobs
DTSTAMP:20260420T014008Z
LOCATION:Ofenwerk\, Klingenhofstraße 72\, 90411 Nürnberg
DTSTART;TZID=Europe/Brussels:20240423T070000Z
DTEND;TZID=Europe/Brussels:20240423T160000Z
SUMMARY:Master Messe Nürnberg 2024
DESCRIPTION:https://www.google.com/maps/search/?api=1&query=Ofenwerk%2C+Klingenhofstraße+72%2C+90411+Nürnberg
END:VEVENT
END:VCALENDAR