BEGIN:VCALENDAR
VERSION:2.0
PRODID:-//InStaff und Jobs GmbH
BEGIN:VEVENT
UID:66adad09624d8849cc373cdd2c5cb498@instaff.jobs
DTSTAMP:20260420T014120Z
LOCATION:Ofenwerk Nürnberg\, Klingenhofstraße 72\, 90411 Nürnberg
DTSTART;TZID=Europe/Brussels:20240127T070000Z
DTEND;TZID=Europe/Brussels:20240127T160000Z
SUMMARY:parentum Nürnberg 2024
DESCRIPTION:https://www.google.com/maps/search/?api=1&query=Ofenwerk+Nürnberg%2C+Klingenhofstraße+72%2C+90411+Nürnberg
END:VEVENT
END:VCALENDAR