BEGIN:VCALENDAR
VERSION:2.0
PRODID:-//InStaff und Jobs GmbH
BEGIN:VEVENT
UID:9507164610693e784dce3a795f372a23@instaff.jobs
DTSTAMP:20260420T012516Z
LOCATION:Messe Nürnberg\, Messezentrum 1\, 90471 Nürnberg
DTSTART;TZID=Europe/Brussels:20241206T070000Z
DTEND;TZID=Europe/Brussels:20241208T160000Z
SUMMARY:RETRO CLASSICS BAVARIA 2024
DESCRIPTION:https://www.google.com/maps/search/?api=1&query=Messe+Nürnberg%2C+Messezentrum+1%2C+90471+Nürnberg
END:VEVENT
END:VCALENDAR