BEGIN:VCALENDAR
VERSION:2.0
PRODID:-//InStaff und Jobs GmbH
BEGIN:VEVENT
UID:710847c8bb90067303a3c01bd4c7064f@instaff.jobs
DTSTAMP:20260420T012536Z
LOCATION:Messezentrum Nürnberg\, Messezentrum 1\, 90471 Nürnberg
DTSTART;TZID=Europe/Brussels:20240130T070000Z
DTEND;TZID=Europe/Brussels:20240203T160000Z
SUMMARY:Spielwarenmesse 2024
DESCRIPTION:https://www.google.com/maps/search/?api=1&query=Messezentrum+Nürnberg%2C+Messezentrum+1%2C+90471+Nürnberg
END:VEVENT
END:VCALENDAR