BEGIN:VCALENDAR
VERSION:2.0
PRODID:-//InStaff und Jobs GmbH
BEGIN:VEVENT
UID:76c5447271f1f7d3c7bedf5b16f48878@instaff.jobs
DTSTAMP:20260420T011911Z
LOCATION:Nürnberg Messe\, Karl-Schönleben-Str\. Messezentrum 1\, 90471 Nürnberg
DTSTART;TZID=Europe/Brussels:20241112T070000Z
DTEND;TZID=Europe/Brussels:20241114T160000Z
SUMMARY:SPS 2024
DESCRIPTION:https://www.google.com/maps/search/?api=1&query=Nürnberg+Messe%2C+Karl-Schönleben-Str.+Messezentrum+1%2C+90471+Nürnberg
END:VEVENT
END:VCALENDAR