BEGIN:VCALENDAR
VERSION:2.0
PRODID:-//InStaff und Jobs GmbH
BEGIN:VEVENT
UID:06e7f26ab82bd4b667c6674185957cf7@instaff.jobs
DTSTAMP:20260420T014121Z
LOCATION:Meistersingerhalle\, Münchener Str\. 21\, 90478 Nürnberg
DTSTART;TZID=Europe/Brussels:20240702T070000Z
DTEND;TZID=Europe/Brussels:20240703T160000Z
SUMMARY:vocatium Nürnberg 2024
DESCRIPTION:https://www.google.com/maps/search/?api=1&query=Meistersingerhalle%2C+Münchener+Str.+21%2C+90478+Nürnberg
END:VEVENT
END:VCALENDAR