BEGIN:VCALENDAR
VERSION:2.0
PRODID:-//InStaff und Jobs GmbH
BEGIN:VEVENT
UID:926cf90817ded3eedc3d3c2d713a7e62@instaff.jobs
DTSTAMP:20260419T235959Z
LOCATION:HanseMesse\, Zur Hansemesse 1-2\, 18106 Rostock
DTSTART;TZID=Europe/Brussels:20240927T070000Z
DTEND;TZID=Europe/Brussels:20240929T160000Z
SUMMARY:Wohnideen & Lifestyle 2024
DESCRIPTION:https://www.google.com/maps/search/?api=1&query=HanseMesse%2C+Zur+Hansemesse+1-2%2C+18106+Rostock
END:VEVENT
END:VCALENDAR