BEGIN:VCALENDAR
VERSION:2.0
PRODID:-//InStaff und Jobs GmbH
BEGIN:VEVENT
UID:a6c7e339e2d25d809311e94e3c5ad466@instaff.jobs
DTSTAMP:20260426T012724Z
LOCATION:Liederhalle\, Berliner Platz 1-3\, 70174 Stuttgart
DTSTART;TZID=Europe/Brussels:20240523T070000Z
DTEND;TZID=Europe/Brussels:20240523T160000Z
SUMMARY:Absolventenkongress Stuttgart 2024
DESCRIPTION:https://www.google.com/maps/search/?api=1&query=Liederhalle%2C+Berliner+Platz+1-3%2C+70174+Stuttgart
END:VEVENT
END:VCALENDAR