BEGIN:VCALENDAR
VERSION:2.0
PRODID:-//InStaff und Jobs GmbH
BEGIN:VEVENT
UID:ce71681c733657e0f470986212a52648@instaff.jobs
DTSTAMP:20260426T012950Z
LOCATION:Universität Stuttgart Campus Vaihingen\, Pfaffenwaldring\, 70569 Stuttgart
DTSTART;TZID=Europe/Brussels:20240416T070000Z
DTEND;TZID=Europe/Brussels:20240418T160000Z
SUMMARY:bonding Firmenkontaktmesse Stuttgart 2024
DESCRIPTION:https://www.google.com/maps/search/?api=1&query=Universität+Stuttgart+Campus+Vaihingen%2C+Pfaffenwaldring%2C+70569+Stuttgart
END:VEVENT
END:VCALENDAR