BEGIN:VCALENDAR
VERSION:2.0
PRODID:-//InStaff und Jobs GmbH
BEGIN:VEVENT
UID:e05c79828df5c0862d597439745e35b4@instaff.jobs
DTSTAMP:20260426T012652Z
LOCATION:Haus der Wirtschaft\, Willi-Bleicher-Straße 19\, 70174 Stuttgart
DTSTART;TZID=Europe/Brussels:20240423T070000Z
DTEND;TZID=Europe/Brussels:20240426T160000Z
SUMMARY:FMX 2024
DESCRIPTION:https://www.google.com/maps/search/?api=1&query=Haus+der+Wirtschaft%2C+Willi-Bleicher-Straße+19%2C+70174+Stuttgart
END:VEVENT
END:VCALENDAR