BEGIN:VCALENDAR
VERSION:2.0
PRODID:-//InStaff und Jobs GmbH
BEGIN:VEVENT
UID:eaf42ef7a77f4e77a8811e9e329bcabf@instaff.jobs
DTSTAMP:20260426T012837Z
LOCATION:Messe Stuttgart\, Messepiazza 1\, 70629 Stuttgart
DTSTART;TZID=Europe/Brussels:20241121T070000Z
DTEND;TZID=Europe/Brussels:20241124T160000Z
SUMMARY:Food und Feines 2024
DESCRIPTION:https://www.google.com/maps/search/?api=1&query=Messe+Stuttgart%2C+Messepiazza+1%2C+70629+Stuttgart
END:VEVENT
END:VCALENDAR