BEGIN:VCALENDAR
VERSION:2.0
PRODID:-//InStaff und Jobs GmbH
BEGIN:VEVENT
UID:b72eaebac1b7b7200452adf8df909e6b@instaff.jobs
DTSTAMP:20260426T012723Z
LOCATION:Messe Stuttgart\, Messepiazza 1\, 70629 Stuttgart
DTSTART;TZID=Europe/Brussels:20241008T070000Z
DTEND;TZID=Europe/Brussels:20241009T160000Z
SUMMARY:hy-fcell 2024
DESCRIPTION:https://www.google.com/maps/search/?api=1&query=Messe+Stuttgart%2C+Messepiazza+1%2C+70629+Stuttgart
END:VEVENT
END:VCALENDAR