BEGIN:VCALENDAR
VERSION:2.0
PRODID:-//InStaff und Jobs GmbH
BEGIN:VEVENT
UID:0ffd2889f91b6af6b70975df6483098a@instaff.jobs
DTSTAMP:20260426T012550Z
LOCATION:GENO-Haus Stuttgart\, Heilbronner Straße 41\, 70191 Stuttgart
DTSTART;TZID=Europe/Brussels:20240426T070000Z
DTEND;TZID=Europe/Brussels:20240426T160000Z
SUMMARY:IT Day Stuttgart 2024
DESCRIPTION:https://www.google.com/maps/search/?api=1&query=GENO-Haus+Stuttgart%2C+Heilbronner+Straße+41%2C+70191+Stuttgart
END:VEVENT
END:VCALENDAR