BEGIN:VCALENDAR
VERSION:2.0
PRODID:-//InStaff und Jobs GmbH
BEGIN:VEVENT
UID:101f4930717f5cb86755f2aaf988263c@instaff.jobs
DTSTAMP:20260426T012836Z
LOCATION:Carl Benz Arena\, Mercedesstraße 73D\, 70372 Stuttgart
DTSTART;TZID=Europe/Brussels:20241113T070000Z
DTEND;TZID=Europe/Brussels:20241113T160000Z
SUMMARY:Traumberuf Schülermesse Stuttgart 2024
DESCRIPTION:https://www.google.com/maps/search/?api=1&query=Carl+Benz+Arena%2C+Mercedesstraße+73D%2C+70372+Stuttgart
END:VEVENT
END:VCALENDAR