BEGIN:VCALENDAR
VERSION:2.0
PRODID:-//InStaff und Jobs GmbH
BEGIN:VEVENT
UID:4b0e3c2f91efe515124d6220935c79c7@instaff.jobs
DTSTAMP:20260425T200027Z
LOCATION:tectake ARENA\, Stettiner Str\. 1\, 97072 Würzburg
DTSTART;TZID=Europe/Brussels:20241115T070000Z
DTEND;TZID=Europe/Brussels:20241115T160000Z
SUMMARY:parentum Würzburg 2024
DESCRIPTION:https://www.google.com/maps/search/?api=1&query=tectake+ARENA%2C+Stettiner+Str.+1%2C+97072+Würzburg
END:VEVENT
END:VCALENDAR