BEGIN:VCALENDAR
VERSION:2.0
PRODID:-//InStaff und Jobs GmbH
BEGIN:VEVENT
UID:20af57d21c1650935ef035e6ec3cdcb9@instaff.jobs
DTSTAMP:20260425T214658Z
LOCATION:Congress Centrum Würzburg\, Pleichertorstraße\, 97070 Würzburg
DTSTART;TZID=Europe/Brussels:20240925T070000Z
DTEND;TZID=Europe/Brussels:20240928T160000Z
SUMMARY:Deutscher Hautkrebskongress 2024
DESCRIPTION:https://www.google.com/maps/search/?api=1&query=Congress+Centrum+Würzburg%2C+Pleichertorstraße%2C+97070+Würzburg
END:VEVENT
BEGIN:VEVENT
UID:8a9a7eb92abf238f79ec15e16fcfd676@instaff.jobs
DTSTAMP:20260425T214658Z
LOCATION:VCC Vogel Convention Center\, Max-Planck-Straße 7\/9\, 97082 Würzburg
DTSTART;TZID=Europe/Brussels:20241110T070000Z
DTEND;TZID=Europe/Brussels:20241110T160000Z
SUMMARY:Herzblatt Hochzeitsmesse Würzburg 2024
DESCRIPTION:https://www.google.com/maps/search/?api=1&query=VCC+Vogel+Convention+Center%2C+Max-Planck-Straße+7/9%2C+97082+Würzburg
END:VEVENT
BEGIN:VEVENT
UID:f066d93e3d949ab460b527b191706a5d@instaff.jobs
DTSTAMP:20260425T214658Z
LOCATION:tectake ARENA\, Stettiner Str\. 1\, 97072 Würzburg
DTSTART;TZID=Europe/Brussels:20241115T070000Z
DTEND;TZID=Europe/Brussels:20241115T160000Z
SUMMARY:parentum Würzburg 2024
DESCRIPTION:https://www.google.com/maps/search/?api=1&query=tectake+ARENA%2C+Stettiner+Str.+1%2C+97072+Würzburg
END:VEVENT
END:VCALENDAR