BEGIN:VCALENDAR
VERSION:2.0
PRODID:-//InStaff und Jobs GmbH
BEGIN:VEVENT
UID:73006a29337382d7f4485cb0ad9f889e@instaff.jobs
DTSTAMP:20260426T012836Z
LOCATION:KANT-Schule Berlin-Steglitz\, Körnerstraße 11\, 12169 Berlin
DTSTART;TZID=Europe/Brussels:20250920T070000Z
DTEND;TZID=Europe/Brussels:20250920T160000Z
SUMMARY:AUF IN DIE WELT Berlin (3) 2025
DESCRIPTION:https://www.google.com/maps/search/?api=1&query=KANT-Schule+Berlin-Steglitz%2C+Körnerstraße+11%2C+12169+Berlin
END:VEVENT
END:VCALENDAR