BEGIN:VCALENDAR
VERSION:2.0
PRODID:-//InStaff und Jobs GmbH
BEGIN:VEVENT
UID:b0cb90a24b803ed94ed608ad6e92eeaf@instaff.jobs
DTSTAMP:20260426T012812Z
LOCATION:Kongresscenter im Hotel de Rome\, Behrenstraße 37\, 10117 Berlin
DTSTART;TZID=Europe/Brussels:20250922T070000Z
DTEND;TZID=Europe/Brussels:20250923T160000Z
SUMMARY:Beschaffungskonferenz 2025
DESCRIPTION:https://www.google.com/maps/search/?api=1&query=Kongresscenter+im+Hotel+de+Rome%2C+Behrenstraße+37%2C+10117+Berlin
END:VEVENT
END:VCALENDAR