BEGIN:VCALENDAR
VERSION:2.0
PRODID:-//InStaff und Jobs GmbH
BEGIN:VEVENT
UID:674487411b5fea086edba517b0076018@instaff.jobs
DTSTAMP:20260426T012645Z
LOCATION:Arena Berlin\, Eichenstraße 4\, 12435 Berlin
DTSTART;TZID=Europe/Brussels:20251010T070000Z
DTEND;TZID=Europe/Brussels:20251011T160000Z
SUMMARY:deGUT 2025
DESCRIPTION:https://www.google.com/maps/search/?api=1&query=Arena+Berlin%2C+Eichenstraße+4%2C+12435+Berlin
END:VEVENT
END:VCALENDAR