BEGIN:VCALENDAR
VERSION:2.0
PRODID:-//InStaff und Jobs GmbH
BEGIN:VEVENT
UID:cec4a35d9fd610b1170dab1cfc252655@instaff.jobs
DTSTAMP:20260426T012654Z
LOCATION:MARITIM proArte Berlin\, Friedrichstraße 151\, 10117 Berlin
DTSTART;TZID=Europe/Brussels:20250616T070000Z
DTEND;TZID=Europe/Brussels:20250619T160000Z
SUMMARY:DevOpsCon Berlin 2025
DESCRIPTION:https://www.google.com/maps/search/?api=1&query=MARITIM+proArte+Berlin%2C+Friedrichstraße+151%2C+10117+Berlin
END:VEVENT
END:VCALENDAR