BEGIN:VCALENDAR
VERSION:2.0
PRODID:-//InStaff und Jobs GmbH
BEGIN:VEVENT
UID:488190f394e322bc71222ae5a595441d@instaff.jobs
DTSTAMP:20260426T012645Z
LOCATION:Arena Berlin\, Eichenstraße 4\, 12435 Berlin
DTSTART;TZID=Europe/Brussels:20251114T070000Z
DTEND;TZID=Europe/Brussels:20251115T160000Z
SUMMARY:einstieg Berlin 2025
DESCRIPTION:https://www.google.com/maps/search/?api=1&query=Arena+Berlin%2C+Eichenstraße+4%2C+12435+Berlin
END:VEVENT
END:VCALENDAR