BEGIN:VCALENDAR
VERSION:2.0
PRODID:-//InStaff und Jobs GmbH
BEGIN:VEVENT
UID:ec11f5f1834d270240118d16f24de521@instaff.jobs
DTSTAMP:20260426T012842Z
LOCATION:Langenbeck-Virchow-Haus Berlin\, Luisenstraße 58\/59\, 10117 Berlin
DTSTART;TZID=Europe/Brussels:20250213T070000Z
DTEND;TZID=Europe/Brussels:20250215T160000Z
SUMMARY:EKB Endoprothetikkongress 2025
DESCRIPTION:https://www.google.com/maps/search/?api=1&query=Langenbeck-Virchow-Haus+Berlin%2C+Luisenstraße+58/59%2C+10117+Berlin
END:VEVENT
END:VCALENDAR