BEGIN:VCALENDAR
VERSION:2.0
PRODID:-//InStaff und Jobs GmbH
BEGIN:VEVENT
UID:4dd00b93879525b88749da988f3485e7@instaff.jobs
DTSTAMP:20260426T012645Z
LOCATION:Berlin ExpoCenter City\, Messedamm 22\, 14055 Berlin
DTSTART;TZID=Europe/Brussels:20250205T070000Z
DTEND;TZID=Europe/Brussels:20250207T160000Z
SUMMARY:FRUIT LOGISTICA 2025
DESCRIPTION:https://www.google.com/maps/search/?api=1&query=Berlin+ExpoCenter+City%2C+Messedamm+22%2C+14055+Berlin
END:VEVENT
END:VCALENDAR