BEGIN:VCALENDAR
VERSION:2.0
PRODID:-//InStaff und Jobs GmbH
BEGIN:VEVENT
UID:13b717ef38a22bda125828db35a812a9@instaff.jobs
DTSTAMP:20260426T012653Z
LOCATION:Messe Berlin\, Messedamm 22\, 14055 Berlin
DTSTART;TZID=Europe/Brussels:20250905T070000Z
DTEND;TZID=Europe/Brussels:20250909T160000Z
SUMMARY:IFA 2025
DESCRIPTION:https://www.google.com/maps/search/?api=1&query=Messe+Berlin%2C+Messedamm+22%2C+14055+Berlin
END:VEVENT
END:VCALENDAR