BEGIN:VCALENDAR
VERSION:2.0
PRODID:-//InStaff und Jobs GmbH
BEGIN:VEVENT
UID:be39ddbb67775035f04a7a2731bc59ad@instaff.jobs
DTSTAMP:20260426T012836Z
LOCATION:Rosa-Luxemburg-Gymnasium\, Kissingenstr\. 12 \(Zugang über Neumannstr\.\)\, 13189 Berlin
DTSTART;TZID=Europe/Brussels:20251206T070000Z
DTEND;TZID=Europe/Brussels:20251206T160000Z
SUMMARY:JuBi – Die JugendBildungsmesse Berlin (6) 2025
DESCRIPTION:https://www.google.com/maps/search/?api=1&query=Rosa-Luxemburg-Gymnasium%2C+Kissingenstr.+12+(Zugang+über+Neumannstr.)%2C+13189+Berlin
END:VEVENT
END:VCALENDAR