BEGIN:VCALENDAR
VERSION:2.0
PRODID:-//InStaff und Jobs GmbH
BEGIN:VEVENT
UID:a4293b1f94a86976febee687c47c95ab@instaff.jobs
DTSTAMP:20260426T012723Z
LOCATION:Ludwig Erhard Haus IHK Berlin\, Fasanenstraße 85\, 10623 Berlin
DTSTART;TZID=Europe/Brussels:20251104T070000Z
DTEND;TZID=Europe/Brussels:20251104T160000Z
SUMMARY:Karriere Kick Berlin 2025
DESCRIPTION:https://www.google.com/maps/search/?api=1&query=Ludwig+Erhard+Haus+IHK+Berlin%2C+Fasanenstraße+85%2C+10623+Berlin
END:VEVENT
END:VCALENDAR