BEGIN:VCALENDAR
VERSION:2.0
PRODID:-//InStaff und Jobs GmbH
BEGIN:VEVENT
UID:bfc4ad2a4ce3ae6b8a8eea156cb8f798@instaff.jobs
DTSTAMP:20260426T012836Z
LOCATION:Ludwig Erhard Haus\, Fasanenstraße 85\, 10623 Berlin
DTSTART;TZID=Europe/Brussels:20251204T070000Z
DTEND;TZID=Europe/Brussels:20251204T160000Z
SUMMARY:MADE IN BERLIN (MIB) - Karrieremesse 2025
DESCRIPTION:https://www.google.com/maps/search/?api=1&query=Ludwig+Erhard+Haus%2C+Fasanenstraße+85%2C+10623+Berlin
END:VEVENT
END:VCALENDAR