BEGIN:VCALENDAR
VERSION:2.0
PRODID:-//InStaff und Jobs GmbH
BEGIN:VEVENT
UID:b38bd73f34c36463feaad0f358cddc70@instaff.jobs
DTSTAMP:20260426T012812Z
LOCATION:hub27 Berlin\, Messegelände Berlin Jafféstraße 2\, Tor 25\, 14055 Berlin
DTSTART;TZID=Europe/Brussels:20250930T070000Z
DTEND;TZID=Europe/Brussels:20251002T160000Z
SUMMARY:Smart Country Convention 2025
DESCRIPTION:https://www.google.com/maps/search/?api=1&query=hub27+Berlin%2C+Messegelände+Berlin+Jafféstraße+2%2C+Tor+25%2C+14055+Berlin
END:VEVENT
END:VCALENDAR