BEGIN:VCALENDAR
VERSION:2.0
PRODID:-//InStaff und Jobs GmbH
BEGIN:VEVENT
UID:2933ad86c6ecca2b27ffc220f27a94b3@instaff.jobs
DTSTAMP:20260426T012645Z
LOCATION:Maritim proArte Hotel Berlin\, Friedrichstraße 151\, 10117 Berlin
DTSTART;TZID=Europe/Brussels:20251117T070000Z
DTEND;TZID=Europe/Brussels:20251118T160000Z
SUMMARY:Smart Remote Service 2025
DESCRIPTION:https://www.google.com/maps/search/?api=1&query=Maritim+proArte+Hotel+Berlin%2C+Friedrichstraße+151%2C+10117+Berlin
END:VEVENT
END:VCALENDAR