BEGIN:VCALENDAR
VERSION:2.0
PRODID:-//InStaff und Jobs GmbH
BEGIN:VEVENT
UID:e44f67a211295570ae86916b9c7bfd6d@instaff.jobs
DTSTAMP:20260426T012812Z
LOCATION:Arena Berlin\, Eichenstraße 4\, 12435 Berlin
DTSTART;TZID=Europe/Brussels:20251108T070000Z
DTEND;TZID=Europe/Brussels:20251109T160000Z
SUMMARY:TrauDich! Berlin 2025
DESCRIPTION:https://www.google.com/maps/search/?api=1&query=Arena+Berlin%2C+Eichenstraße+4%2C+12435+Berlin
END:VEVENT
END:VCALENDAR