BEGIN:VCALENDAR
VERSION:2.0
PRODID:-//InStaff und Jobs GmbH
BEGIN:VEVENT
UID:05b71eefafda3bcfb2ed5b33a6b6e8e0@instaff.jobs
DTSTAMP:20260426T012842Z
LOCATION:Arena Berlin\, Eichenstraße 4\, 12435 Berlin
DTSTART;TZID=Europe/Brussels:20250618T070000Z
DTEND;TZID=Europe/Brussels:20250619T160000Z
SUMMARY:vocatium Berlin I 2025
DESCRIPTION:https://www.google.com/maps/search/?api=1&query=Arena+Berlin%2C+Eichenstraße+4%2C+12435+Berlin
END:VEVENT
END:VCALENDAR