BEGIN:VCALENDAR
VERSION:2.0
PRODID:-//InStaff und Jobs GmbH
BEGIN:VEVENT
UID:846c3f992c39367be4f389a511ee3449@instaff.jobs
DTSTAMP:20260426T012549Z
LOCATION:Maritim proArte Hotel Berlin\, Friedrichstraße 151\, 10117 Berlin
DTSTART;TZID=Europe/Brussels:20250602T070000Z
DTEND;TZID=Europe/Brussels:20250606T160000Z
SUMMARY:webinale 2025
DESCRIPTION:https://www.google.com/maps/search/?api=1&query=Maritim+proArte+Hotel+Berlin%2C+Friedrichstraße+151%2C+10117+Berlin
END:VEVENT
END:VCALENDAR