BEGIN:VCALENDAR
VERSION:2.0
PRODID:-//InStaff und Jobs GmbH
BEGIN:VEVENT
UID:98e86e8222d4a830299dce50ce00c05e@instaff.jobs
DTSTAMP:20260424T142007Z
LOCATION:Kraftzentrale\, Emscherstraße 71\, 47137 Duisburg
DTSTART;TZID=Europe/Brussels:20250329T070000Z
DTEND;TZID=Europe/Brussels:20250330T160000Z
SUMMARY:Apothekentour Duisburg 2025
DESCRIPTION:https://www.google.com/maps/search/?api=1&query=Kraftzentrale%2C+Emscherstraße+71%2C+47137+Duisburg
END:VEVENT
END:VCALENDAR