BEGIN:VCALENDAR
VERSION:2.0
PRODID:-//InStaff und Jobs GmbH
BEGIN:VEVENT
UID:803ff8253fd43af897eaf34f98caf2f2@instaff.jobs
DTSTAMP:20260424T142025Z
LOCATION:Kraftzentrale\, Emscherstraße 71\, 47137 Duisburg
DTSTART;TZID=Europe/Brussels:20250527T070000Z
DTEND;TZID=Europe/Brussels:20250528T160000Z
SUMMARY:vocatium Duisburg 2025
DESCRIPTION:https://www.google.com/maps/search/?api=1&query=Kraftzentrale%2C+Emscherstraße+71%2C+47137+Duisburg
END:VEVENT
END:VCALENDAR